BEGIN:VCALENDAR
VERSION:2.0
PRODID:-//JAくろべ - ECPv4.6.13//NONSGML v1.0//EN
CALSCALE:GREGORIAN
METHOD:PUBLISH
X-WR-CALNAME:JAくろべ
X-ORIGINAL-URL:https://www.ja-kurobe.jp
X-WR-CALDESC:Events for JAくろべ
BEGIN:VEVENT
DTSTART;TZID=Asia/Tokyo:20170203T140000
DTEND;TZID=Asia/Tokyo:20170203T160000
DTSTAMP:20260421T132447
CREATED:20170220T062548Z
LAST-MODIFIED:20170220T062548Z
UID:4773-1486130400-1486137600@www.ja-kurobe.jp
SUMMARY:税務・法律相談日
DESCRIPTION:
URL:https://www.ja-kurobe.jp/tribe_events/zeimu/
END:VEVENT
END:VCALENDAR