BEGIN:VCALENDAR
VERSION:2.0
PRODID:-//JAくろべ - ECPv4.6.13//NONSGML v1.0//EN
CALSCALE:GREGORIAN
METHOD:PUBLISH
X-WR-CALNAME:JAくろべ
X-ORIGINAL-URL:https://www.ja-kurobe.jp
X-WR-CALDESC:Events for JAくろべ
BEGIN:VEVENT
DTSTART;TZID=Asia/Tokyo:20170602T140000
DTEND;TZID=Asia/Tokyo:20170602T160000
DTSTAMP:20260421T131457
CREATED:20170508T072630Z
LAST-MODIFIED:20170508T072630Z
UID:5184-1496412000-1496419200@www.ja-kurobe.jp
SUMMARY:税務・法律相談日
DESCRIPTION:
URL:https://www.ja-kurobe.jp/tribe_events/zeimu-soudan/
END:VEVENT
END:VCALENDAR