BEGIN:VCALENDAR
VERSION:2.0
PRODID:-//JAくろべ - ECPv4.6.13//NONSGML v1.0//EN
CALSCALE:GREGORIAN
METHOD:PUBLISH
X-WR-CALNAME:JAくろべ
X-ORIGINAL-URL:https://www.ja-kurobe.jp
X-WR-CALDESC:Events for JAくろべ
BEGIN:VEVENT
DTSTART;TZID=Asia/Tokyo:20170512T140000
DTEND;TZID=Asia/Tokyo:20170512T160000
DTSTAMP:20260421T132531
CREATED:20170309T084146Z
LAST-MODIFIED:20170412T023530Z
UID:4878-1494597600-1494604800@www.ja-kurobe.jp
SUMMARY:税務・法律相談日
DESCRIPTION:
URL:https://www.ja-kurobe.jp/tribe_events/zeimu-4/
END:VEVENT
END:VCALENDAR