BEGIN:VCALENDAR
VERSION:2.0
PRODID:-//JAくろべ - ECPv4.6.13//NONSGML v1.0//EN
CALSCALE:GREGORIAN
METHOD:PUBLISH
X-WR-CALNAME:JAくろべ
X-ORIGINAL-URL:https://www.ja-kurobe.jp
X-WR-CALDESC:Events for JAくろべ
BEGIN:VEVENT
DTSTART;VALUE=DATE:20170523
DTEND;VALUE=DATE:20170524
DTSTAMP:20260421T151327
CREATED:20170614T235732Z
LAST-MODIFIED:20170614T235732Z
UID:5439-1495497600-1495583999@www.ja-kurobe.jp
SUMMARY:中部魚錠様田植え体験
DESCRIPTION:\n		\n			#gallery-1 {\n				margin: auto;\n			}\n			#gallery-1 .gallery-item {\n				float: left;\n				margin-top: 10px;\n				text-align: center;\n				width: 33%;\n			}\n			#gallery-1 img {\n				border: 2px solid #cfcfcf;\n			}\n			#gallery-1 .gallery-caption {\n				margin-left: 0;\n			}\n			/* see gallery_shortcode() in wp-includes/media.php */\n		\n		\n			\n				\n			\n				\n				最後に記念撮影\n				\n			\n				\n			\n				\n				泥の足場に悪戦苦闘\n				\n			\n				\n			\n				\n				田植え機も操作\n				\n			\n				\n			\n				\n				田植え作業に奮闘中\n				\n			\n		\n\n
URL:https://www.ja-kurobe.jp/tribe_events/taue/
END:VEVENT
END:VCALENDAR