BEGIN:VCALENDAR
VERSION:2.0
PRODID:-//JAくろべ - ECPv4.6.13//NONSGML v1.0//EN
CALSCALE:GREGORIAN
METHOD:PUBLISH
X-WR-CALNAME:JAくろべ
X-ORIGINAL-URL:https://www.ja-kurobe.jp
X-WR-CALDESC:Events for JAくろべ
BEGIN:VEVENT
DTSTART;VALUE=DATE:20180730
DTEND;VALUE=DATE:20180731
DTSTAMP:20260421T094730
CREATED:20180809T070304Z
LAST-MODIFIED:20180809T070304Z
UID:7694-1532908800-1532995199@www.ja-kurobe.jp
SUMMARY:しろねぎ出荷会議
DESCRIPTION:\n		\n			#gallery-1 {\n				margin: auto;\n			}\n			#gallery-1 .gallery-item {\n				float: left;\n				margin-top: 10px;\n				text-align: center;\n				width: 33%;\n			}\n			#gallery-1 img {\n				border: 2px solid #cfcfcf;\n			}\n			#gallery-1 .gallery-caption {\n				margin-left: 0;\n			}\n			/* see gallery_shortcode() in wp-includes/media.php */\n		\n		\n			\n				\n			\n				\n				１億円産地づくりをめざす！\n				\n			\n				\n			\n				\n				しろねぎの出荷会議を行いました\n				\n			\n				\n			\n				\n				管内では約11ヘクタールを作付けしています。出荷に向けて管理方法や規格を確認しました。\n				\n		\n\n
URL:https://www.ja-kurobe.jp/tribe_events/shironegi-shippingmeeting/
END:VEVENT
END:VCALENDAR