BEGIN:VCALENDAR
VERSION:2.0
PRODID:-//JAくろべ - ECPv4.6.13//NONSGML v1.0//EN
CALSCALE:GREGORIAN
METHOD:PUBLISH
X-WR-CALNAME:JAくろべ
X-ORIGINAL-URL:https://www.ja-kurobe.jp
X-WR-CALDESC:Events for JAくろべ
BEGIN:VEVENT
DTSTART;TZID=Asia/Tokyo:20170419T133000
DTEND;TZID=Asia/Tokyo:20170419T160000
DTSTAMP:20260421T151244
CREATED:20170309T085003Z
LAST-MODIFIED:20170309T085003Z
UID:4883-1492608600-1492617600@www.ja-kurobe.jp
SUMMARY:採用説明会（第2回）
DESCRIPTION:
URL:https://www.ja-kurobe.jp/tribe_events/saiyou2/
END:VEVENT
END:VCALENDAR