BEGIN:VCALENDAR
VERSION:2.0
PRODID:-//JAくろべ - ECPv4.6.13//NONSGML v1.0//EN
CALSCALE:GREGORIAN
METHOD:PUBLISH
X-WR-CALNAME:JAくろべ
X-ORIGINAL-URL:https://www.ja-kurobe.jp
X-WR-CALDESC:Events for JAくろべ
BEGIN:VEVENT
DTSTART;VALUE=DATE:20171013
DTEND;VALUE=DATE:20171014
DTSTAMP:20260421T081820
CREATED:20170908T052941Z
LAST-MODIFIED:20170921T052138Z
UID:5878-1507852800-1507939199@www.ja-kurobe.jp
SUMMARY:臨時理事会
DESCRIPTION:
URL:https://www.ja-kurobe.jp/tribe_events/rijikai201710/
END:VEVENT
END:VCALENDAR