BEGIN:VCALENDAR
VERSION:2.0
PRODID:-//JAくろべ - ECPv4.6.13//NONSGML v1.0//EN
CALSCALE:GREGORIAN
METHOD:PUBLISH
X-WR-CALNAME:JAくろべ
X-ORIGINAL-URL:https://www.ja-kurobe.jp
X-WR-CALDESC:Events for JAくろべ
BEGIN:VEVENT
DTSTART;VALUE=DATE:20161105
DTEND;VALUE=DATE:20161106
DTSTAMP:20260421T150504
CREATED:20161115T003835Z
LAST-MODIFIED:20161117T055645Z
UID:4255-1478304000-1478390399@www.ja-kurobe.jp
SUMMARY:農業祭1日目
DESCRIPTION:\n		\n			#gallery-1 {\n				margin: auto;\n			}\n			#gallery-1 .gallery-item {\n				float: left;\n				margin-top: 10px;\n				text-align: center;\n				width: 33%;\n			}\n			#gallery-1 img {\n				border: 2px solid #cfcfcf;\n			}\n			#gallery-1 .gallery-caption {\n				margin-left: 0;\n			}\n			/* see gallery_shortcode() in wp-includes/media.php */\n		\n		\n			\n				\n			\n				\n				黒部市農協第１回合併記念農業祭開催\n				\n			\n				\n			\n				\n				5日は天気に恵まれお祭り日和\n				\n			\n				\n			\n				\n				「よさこい」鳴子ストリート　エンジェル\n				\n			\n				\n			\n				\n				どこも大盛況\n				\n			\n				\n			\n				\n				バルーンも人気\n				\n			\n				\n			\n				\n				ふれあい大鍋は今年も大盛況\n				\n			\n				\n			\n				\n				もちつき大会（黒部産いなきびを使用）\n				\n			\n				\n			\n				\n				亀ひろしさんのステージに観客は大爆笑\n				\n			\n				\n			\n				\n				元気いっぱい踊りを披露\n				\n			\n				\n			\n				\n				黒部市農業振興協議会主催の黒部市農産物品評会\n				\n			\n				\n			\n				\n				今年は粗品でカゴが♪\n				\n			\n				\n			\n				\n				今年も品評会に多くの方が\n				\n			\n				\n			\n				\n				桜井高校生とのコラボ商品も好評\n				\n			\n				\n			\n				\n				車に落書きできるコーナーも\n				\n			\n				\n			\n				\n				抽選会にて見事レイコップの布団クリーナーをＧＥＴ！\n				\n			\n				\n			\n				\n				朝早くから多くの来場者が☆\n				\n			\n				\n			\n				\n				農産物を買い求めて行列ができました\n				\n			\n				\n			\n				\n				寺崎美幸さんによる民謡ショー\n				\n		\n\n
URL:https://www.ja-kurobe.jp/tribe_events/nougyousai11-5/
END:VEVENT
END:VCALENDAR