BEGIN:VCALENDAR
VERSION:2.0
PRODID:-//JAくろべ - ECPv4.6.13//NONSGML v1.0//EN
CALSCALE:GREGORIAN
METHOD:PUBLISH
X-WR-CALNAME:JAくろべ
X-ORIGINAL-URL:https://www.ja-kurobe.jp
X-WR-CALDESC:Events for JAくろべ
BEGIN:VEVENT
DTSTART;VALUE=DATE:20161105
DTEND;VALUE=DATE:20161107
DTSTAMP:20260421T151556
CREATED:20161115T003822Z
LAST-MODIFIED:20161115T003822Z
UID:4307-1478304000-1478476799@www.ja-kurobe.jp
SUMMARY:農業祭【各支店】
DESCRIPTION:\n		\n			#gallery-1 {\n				margin: auto;\n			}\n			#gallery-1 .gallery-item {\n				float: left;\n				margin-top: 10px;\n				text-align: center;\n				width: 33%;\n			}\n			#gallery-1 img {\n				border: 2px solid #cfcfcf;\n			}\n			#gallery-1 .gallery-caption {\n				margin-left: 0;\n			}\n			/* see gallery_shortcode() in wp-includes/media.php */\n		\n		\n			\n				\n			\n				\n				女性部喫茶\n				\n			\n				\n			\n				\n				三日市支店 みそ田楽\n				\n			\n				\n			\n				\n				三日市支店 お菓子つかみどり\n				\n			\n				\n			\n				\n				新三島 フランクフルト\n				\n			\n				\n			\n				\n				新三島コイン落とし\n				\n			\n				\n			\n				\n				生地支店 スマートボール\n				\n			\n				\n			\n				\n				生地支店 焼きそば\n				\n			\n				\n			\n				\n				東部支店 どんどん焼き、ラムネ\n				\n			\n				\n			\n				\n				東部支店 わなげ\n				\n			\n				\n			\n				\n				南部支店 チョコバナナ\n				\n			\n				\n			\n				\n				南部支店 射的\n				\n			\n				\n			\n				\n				北部支店 ストライクナイン\n				\n			\n				\n			\n				\n				北部支店 ルーレットゴルフ\n				\n			\n		\n\n
URL:https://www.ja-kurobe.jp/tribe_events/nougyousai-shiten/
END:VEVENT
END:VCALENDAR