BEGIN:VCALENDAR
VERSION:2.0
PRODID:-//JAくろべ - ECPv4.6.13//NONSGML v1.0//EN
CALSCALE:GREGORIAN
METHOD:PUBLISH
X-WR-CALNAME:JAくろべ
X-ORIGINAL-URL:https://www.ja-kurobe.jp
X-WR-CALDESC:Events for JAくろべ
BEGIN:VEVENT
DTSTART;VALUE=DATE:20161105
DTEND;VALUE=DATE:20161106
DTSTAMP:20260421T153525
CREATED:20161115T003844Z
LAST-MODIFIED:20161115T003844Z
UID:4276-1478304000-1478390399@www.ja-kurobe.jp
SUMMARY:農業祭1日目【女性部演芸会】
DESCRIPTION:\n		\n			#gallery-1 {\n				margin: auto;\n			}\n			#gallery-1 .gallery-item {\n				float: left;\n				margin-top: 10px;\n				text-align: center;\n				width: 33%;\n			}\n			#gallery-1 img {\n				border: 2px solid #cfcfcf;\n			}\n			#gallery-1 .gallery-caption {\n				margin-left: 0;\n			}\n			/* see gallery_shortcode() in wp-includes/media.php */\n		\n		\n			\n				\n			\n				\n				村椿支部\n				\n			\n				\n			\n				\n				大布施支部\n				\n			\n				\n			\n				\n				東布施支部\n				\n			\n				\n			\n				\n				宇奈月支部\n				\n			\n				\n			\n				\n				若栗支部\n				\n			\n				\n			\n				\n				石田支部\n				\n			\n				\n			\n				\n				前沢支部\n				\n			\n		\n\n
URL:https://www.ja-kurobe.jp/tribe_events/nougyousai-jyoseibu/
END:VEVENT
END:VCALENDAR