BEGIN:VCALENDAR
VERSION:2.0
PRODID:-//JAくろべ - ECPv4.6.13//NONSGML v1.0//EN
CALSCALE:GREGORIAN
METHOD:PUBLISH
X-WR-CALNAME:JAくろべ
X-ORIGINAL-URL:https://www.ja-kurobe.jp
X-WR-CALDESC:Events for JAくろべ
BEGIN:VEVENT
DTSTART;VALUE=DATE:20180501
DTEND;VALUE=DATE:20180502
DTSTAMP:20260421T194417
CREATED:20180514T075759Z
LAST-MODIFIED:20180514T075759Z
UID:7275-1525132800-1525219199@www.ja-kurobe.jp
SUMMARY:三日市支店新店舗オープン
DESCRIPTION:\n		\n			#gallery-1 {\n				margin: auto;\n			}\n			#gallery-1 .gallery-item {\n				float: left;\n				margin-top: 10px;\n				text-align: center;\n				width: 33%;\n			}\n			#gallery-1 img {\n				border: 2px solid #cfcfcf;\n			}\n			#gallery-1 .gallery-caption {\n				margin-left: 0;\n			}\n			/* see gallery_shortcode() in wp-includes/media.php */\n		\n		\n			\n				\n			\n				\n				外観の様子（裏出入口）\n				\n			\n				\n			\n				\n				記念品を手渡す川﨑常務\n				\n			\n				\n			\n				\n				職員一同笑顔でお待ちしております\n				\n			\n				\n			\n				\n				杉本金融部長\n				\n			\n		\n\n
URL:https://www.ja-kurobe.jp/tribe_events/new-store-open/
END:VEVENT
END:VCALENDAR