BEGIN:VCALENDAR
VERSION:2.0
PRODID:-//JAくろべ - ECPv4.6.13//NONSGML v1.0//EN
CALSCALE:GREGORIAN
METHOD:PUBLISH
X-WR-CALNAME:JAくろべ
X-ORIGINAL-URL:https://www.ja-kurobe.jp
X-WR-CALDESC:Events for JAくろべ
BEGIN:VEVENT
DTSTART;VALUE=DATE:20180516
DTEND;VALUE=DATE:20180517
DTSTAMP:20260421T114308
CREATED:20180417T055241Z
LAST-MODIFIED:20180417T055759Z
UID:7130-1526428800-1526515199@www.ja-kurobe.jp
SUMMARY:日帰り人間ドック(浦山・若栗地区)
DESCRIPTION:
URL:https://www.ja-kurobe.jp/tribe_events/medical-checkup-3/
END:VEVENT
END:VCALENDAR