BEGIN:VCALENDAR
VERSION:2.0
PRODID:-//JAくろべ - ECPv4.6.13//NONSGML v1.0//EN
CALSCALE:GREGORIAN
METHOD:PUBLISH
X-WR-CALNAME:JAくろべ
X-ORIGINAL-URL:https://www.ja-kurobe.jp
X-WR-CALDESC:Events for JAくろべ
BEGIN:VEVENT
DTSTART;TZID=Asia/Tokyo:20170625T090000
DTEND;TZID=Asia/Tokyo:20170625T140000
DTSTAMP:20260421T125337
CREATED:20170608T015919Z
LAST-MODIFIED:20170608T021549Z
UID:5282-1498381200-1498399200@www.ja-kurobe.jp
SUMMARY:第2回くろべ農と食のまるかじり市
DESCRIPTION:
URL:https://www.ja-kurobe.jp/tribe_events/maruakjiri/
LOCATION:Japan
END:VEVENT
END:VCALENDAR