BEGIN:VCALENDAR
VERSION:2.0
PRODID:-//JAくろべ - ECPv4.6.13//NONSGML v1.0//EN
CALSCALE:GREGORIAN
METHOD:PUBLISH
X-WR-CALNAME:JAくろべ
X-ORIGINAL-URL:https://www.ja-kurobe.jp
X-WR-CALDESC:Events for JAくろべ
BEGIN:VEVENT
DTSTART;TZID=Asia/Tokyo:20170528T090000
DTEND;TZID=Asia/Tokyo:20170528T150000
DTSTAMP:20260421T145640
CREATED:20170507T234636Z
LAST-MODIFIED:20170507T234824Z
UID:5177-1495962000-1495983600@www.ja-kurobe.jp
SUMMARY:ローン相談会
DESCRIPTION:  \n \n  \n  \n  \n  \n  \n  \n  \n  \n  \n  \n  \n
URL:https://www.ja-kurobe.jp/tribe_events/loan-consultation/
END:VEVENT
END:VCALENDAR