BEGIN:VCALENDAR
VERSION:2.0
PRODID:-//JAくろべ - ECPv4.6.13//NONSGML v1.0//EN
CALSCALE:GREGORIAN
METHOD:PUBLISH
X-WR-CALNAME:JAくろべ
X-ORIGINAL-URL:https://www.ja-kurobe.jp
X-WR-CALDESC:Events for JAくろべ
BEGIN:VEVENT
DTSTART;TZID=Asia/Tokyo:20180105T140000
DTEND;TZID=Asia/Tokyo:20180105T160000
DTSTAMP:20260421T131554
CREATED:20180115T064805Z
LAST-MODIFIED:20180306T043747Z
UID:6533-1515160800-1515168000@www.ja-kurobe.jp
SUMMARY:税務・法律相談日
DESCRIPTION:
URL:https://www.ja-kurobe.jp/tribe_events/legal-consultation-2/
END:VEVENT
END:VCALENDAR