BEGIN:VCALENDAR
VERSION:2.0
PRODID:-//JAくろべ - ECPv4.6.13//NONSGML v1.0//EN
CALSCALE:GREGORIAN
METHOD:PUBLISH
X-WR-CALNAME:JAくろべ
X-ORIGINAL-URL:https://www.ja-kurobe.jp
X-WR-CALDESC:Events for JAくろべ
BEGIN:VEVENT
DTSTART;VALUE=DATE:20170328
DTEND;VALUE=DATE:20170329
DTSTAMP:20260421T170012
CREATED:20170309T085134Z
LAST-MODIFIED:20170309T085134Z
UID:4884-1490659200-1490745599@www.ja-kurobe.jp
SUMMARY:JAくろべ女性部定期総会
DESCRIPTION:
URL:https://www.ja-kurobe.jp/tribe_events/jyoseibusoukai/
END:VEVENT
END:VCALENDAR