BEGIN:VCALENDAR
VERSION:2.0
PRODID:-//JAくろべ - ECPv4.6.13//NONSGML v1.0//EN
CALSCALE:GREGORIAN
METHOD:PUBLISH
X-WR-CALNAME:JAくろべ
X-ORIGINAL-URL:https://www.ja-kurobe.jp
X-WR-CALDESC:Events for JAくろべ
BEGIN:VEVENT
DTSTART;VALUE=DATE:20170415
DTEND;VALUE=DATE:20170416
DTSTAMP:20260421T145644
CREATED:20170309T085243Z
LAST-MODIFIED:20170309T085243Z
UID:4886-1492214400-1492300799@www.ja-kurobe.jp
SUMMARY:JA富山県女性組織協議会　通常総会
DESCRIPTION:
URL:https://www.ja-kurobe.jp/tribe_events/jyoseibusoukai-3/
END:VEVENT
END:VCALENDAR