BEGIN:VCALENDAR
VERSION:2.0
PRODID:-//JAくろべ - ECPv4.6.13//NONSGML v1.0//EN
CALSCALE:GREGORIAN
METHOD:PUBLISH
X-WR-CALNAME:JAくろべ
X-ORIGINAL-URL:https://www.ja-kurobe.jp
X-WR-CALDESC:Events for JAくろべ
BEGIN:VEVENT
DTSTART;VALUE=DATE:20181203
DTEND;VALUE=DATE:20181204
DTSTAMP:20260421T081808
CREATED:20190227T005305Z
LAST-MODIFIED:20190227T005305Z
UID:8172-1543795200-1543881599@www.ja-kurobe.jp
SUMMARY:イルミネーション点灯式
DESCRIPTION:\n		\n			#gallery-1 {\n				margin: auto;\n			}\n			#gallery-1 .gallery-item {\n				float: left;\n				margin-top: 10px;\n				text-align: center;\n				width: 33%;\n			}\n			#gallery-1 img {\n				border: 2px solid #cfcfcf;\n			}\n			#gallery-1 .gallery-caption {\n				margin-left: 0;\n			}\n			/* see gallery_shortcode() in wp-includes/media.php */\n		\n		\n			\n				\n			\n				\n				木々が光に包まれました\n				\n			\n				\n			\n				\n				駅前のイルミネーション\n				\n			\n				\n			\n				\n				ボタンで一斉に点灯\n				\n			\n				\n			\n				\n				サンタさんの登場♪\n				\n			\n				\n			\n				\n				サンタさんから園児へプレゼント\n				\n			\n		\n\n
URL:https://www.ja-kurobe.jp/tribe_events/illumination-lighting-ceremony/
END:VEVENT
END:VCALENDAR