BEGIN:VCALENDAR
VERSION:2.0
PRODID:-//JAくろべ - ECPv4.6.13//NONSGML v1.0//EN
CALSCALE:GREGORIAN
METHOD:PUBLISH
X-WR-CALNAME:JAくろべ
X-ORIGINAL-URL:https://www.ja-kurobe.jp
X-WR-CALDESC:Events for JAくろべ
BEGIN:VEVENT
DTSTART;VALUE=DATE:20170415
DTEND;VALUE=DATE:20170416
DTSTAMP:20260421T182527
CREATED:20170420T001755Z
LAST-MODIFIED:20170420T001755Z
UID:5134-1492214400-1492300799@www.ja-kurobe.jp
SUMMARY:放牧式
DESCRIPTION:\n		\n			#gallery-1 {\n				margin: auto;\n			}\n			#gallery-1 .gallery-item {\n				float: left;\n				margin-top: 10px;\n				text-align: center;\n				width: 33%;\n			}\n			#gallery-1 img {\n				border: 2px solid #cfcfcf;\n			}\n			#gallery-1 .gallery-caption {\n				margin-left: 0;\n			}\n			/* see gallery_shortcode() in wp-includes/media.php */\n		\n		\n			\n				\n			\n				\n				ヤギや羊と触れ合える\n				\n			\n				\n			\n				\n				記念撮影☆\n				\n			\n				\n			\n				\n				牛と記念撮影☆\n				\n			\n				\n			\n				\n				牛舎を見学\n				\n			\n				\n			\n				\n				広い牧草地に大喜び♪\n				\n			\n				\n			\n				\n				放牧式\n				\n		\n\n
URL:https://www.ja-kurobe.jp/tribe_events/houboku/
END:VEVENT
END:VCALENDAR