BEGIN:VCALENDAR
VERSION:2.0
PRODID:-//JAくろべ - ECPv4.6.13//NONSGML v1.0//EN
CALSCALE:GREGORIAN
METHOD:PUBLISH
X-WR-CALNAME:JAくろべ
X-ORIGINAL-URL:https://www.ja-kurobe.jp
X-WR-CALDESC:Events for JAくろべ
BEGIN:VEVENT
DTSTART;VALUE=DATE:20180605
DTEND;VALUE=DATE:20180606
DTSTAMP:20260422T102414
CREATED:20180714T051853Z
LAST-MODIFIED:20180714T052520Z
UID:7527-1528156800-1528243199@www.ja-kurobe.jp
SUMMARY:大麦の収穫
DESCRIPTION:  \n\n		\n			#gallery-1 {\n				margin: auto;\n			}\n			#gallery-1 .gallery-item {\n				float: left;\n				margin-top: 10px;\n				text-align: center;\n				width: 33%;\n			}\n			#gallery-1 img {\n				border: 2px solid #cfcfcf;\n			}\n			#gallery-1 .gallery-caption {\n				margin-left: 0;\n			}\n			/* see gallery_shortcode() in wp-includes/media.php */\n		\n		\n			\n				\n			\n				\n				収穫された六条大麦は主に「押麦」や「麦とろ麺」に、二条大麦は「宇奈月地ビール」用に出荷されます\n				\n			\n				\n			\n				\n				立派に育った大麦\n				\n			\n				\n			\n				\n				収穫した大麦を確認する(農)犬山営農組合　木下英樹さん\n				\n			\n				\n			\n				\n				大麦の収穫始まる\n				\n			\n				\n			\n				\n				六条大麦\n				\n			\n		\n\n
URL:https://www.ja-kurobe.jp/tribe_events/harvest-of-barley/
END:VEVENT
END:VCALENDAR