BEGIN:VCALENDAR
VERSION:2.0
PRODID:-//JAくろべ - ECPv4.6.13//NONSGML v1.0//EN
CALSCALE:GREGORIAN
METHOD:PUBLISH
X-WR-CALNAME:JAくろべ
X-ORIGINAL-URL:https://www.ja-kurobe.jp
X-WR-CALDESC:Events for JAくろべ
BEGIN:VEVENT
DTSTART;VALUE=DATE:20170510
DTEND;VALUE=DATE:20170511
DTSTAMP:20260421T114353
CREATED:20170614T014000Z
LAST-MODIFIED:20170615T000722Z
UID:5402-1494374400-1494460799@www.ja-kurobe.jp
SUMMARY:学習田(石田小)
DESCRIPTION:\n		\n			#gallery-1 {\n				margin: auto;\n			}\n			#gallery-1 .gallery-item {\n				float: left;\n				margin-top: 10px;\n				text-align: center;\n				width: 33%;\n			}\n			#gallery-1 img {\n				border: 2px solid #cfcfcf;\n			}\n			#gallery-1 .gallery-caption {\n				margin-left: 0;\n			}\n			/* see gallery_shortcode() in wp-includes/media.php */\n		\n		\n			\n				\n			\n				\n				１株１株丁寧に\n				\n			\n				\n			\n				\n				泥の足場に悪戦苦闘\n				\n			\n				\n			\n				\n				田植えも楽しい思い出に☆\n				\n		\n\n
URL:https://www.ja-kurobe.jp/tribe_events/gakusyuden_ishida/
END:VEVENT
END:VCALENDAR