BEGIN:VCALENDAR
VERSION:2.0
PRODID:-//JAくろべ - ECPv4.6.13//NONSGML v1.0//EN
CALSCALE:GREGORIAN
METHOD:PUBLISH
X-WR-CALNAME:JAくろべ
X-ORIGINAL-URL:https://www.ja-kurobe.jp
X-WR-CALDESC:Events for JAくろべ
BEGIN:VEVENT
DTSTART;VALUE=DATE:20170522
DTEND;VALUE=DATE:20170523
DTSTAMP:20260421T151557
CREATED:20170615T000418Z
LAST-MODIFIED:20170615T000947Z
UID:5406-1495411200-1495497599@www.ja-kurobe.jp
SUMMARY:学習田(生地小)
DESCRIPTION:\n		\n			#gallery-1 {\n				margin: auto;\n			}\n			#gallery-1 .gallery-item {\n				float: left;\n				margin-top: 10px;\n				text-align: center;\n				width: 33%;\n			}\n			#gallery-1 img {\n				border: 2px solid #cfcfcf;\n			}\n			#gallery-1 .gallery-caption {\n				margin-left: 0;\n			}\n			/* see gallery_shortcode() in wp-includes/media.php */\n		\n		\n			\n				\n			\n				\n				バケツ稲作に奮闘中\n				\n			\n				\n			\n				\n				上手に植えるよ\n				\n			\n		\n\n
URL:https://www.ja-kurobe.jp/tribe_events/gakusyuden_ikuji/
END:VEVENT
END:VCALENDAR