BEGIN:VCALENDAR
VERSION:2.0
PRODID:-//JAくろべ - ECPv4.6.13//NONSGML v1.0//EN
CALSCALE:GREGORIAN
METHOD:PUBLISH
X-WR-CALNAME:JAくろべ
X-ORIGINAL-URL:https://www.ja-kurobe.jp
X-WR-CALDESC:Events for JAくろべ
BEGIN:VEVENT
DTSTART;VALUE=DATE:20170512
DTEND;VALUE=DATE:20170513
DTSTAMP:20260421T114438
CREATED:20170615T000119Z
LAST-MODIFIED:20170615T000759Z
UID:5409-1494547200-1494633599@www.ja-kurobe.jp
SUMMARY:学習田(中央小)
DESCRIPTION:\n		\n			#gallery-1 {\n				margin: auto;\n			}\n			#gallery-1 .gallery-item {\n				float: left;\n				margin-top: 10px;\n				text-align: center;\n				width: 33%;\n			}\n			#gallery-1 img {\n				border: 2px solid #cfcfcf;\n			}\n			#gallery-1 .gallery-caption {\n				margin-left: 0;\n			}\n			/* see gallery_shortcode() in wp-includes/media.php */\n		\n		\n			\n				\n			\n				\n				まずはじめに土台の土を入れる\n				\n			\n				\n			\n				\n				播種に集中\n				\n			\n		\n\n
URL:https://www.ja-kurobe.jp/tribe_events/gakusyuden_cyuou/
END:VEVENT
END:VCALENDAR