BEGIN:VCALENDAR
VERSION:2.0
PRODID:-//JAくろべ - ECPv4.6.13//NONSGML v1.0//EN
CALSCALE:GREGORIAN
METHOD:PUBLISH
X-WR-CALNAME:JAくろべ
X-ORIGINAL-URL:https://www.ja-kurobe.jp
X-WR-CALDESC:Events for JAくろべ
BEGIN:VEVENT
DTSTART;VALUE=DATE:20180516
DTEND;VALUE=DATE:20180517
DTSTAMP:20260421T114514
CREATED:20180629T013601Z
LAST-MODIFIED:20180629T013601Z
UID:7442-1526428800-1526515199@www.ja-kurobe.jp
SUMMARY:学習田（村椿小学校）
DESCRIPTION:\n		\n			#gallery-1 {\n				margin: auto;\n			}\n			#gallery-1 .gallery-item {\n				float: left;\n				margin-top: 10px;\n				text-align: center;\n				width: 33%;\n			}\n			#gallery-1 img {\n				border: 2px solid #cfcfcf;\n			}\n			#gallery-1 .gallery-caption {\n				margin-left: 0;\n			}\n			/* see gallery_shortcode() in wp-includes/media.php */\n		\n		\n			\n				\n			\n				\n				いざ田植え\n				\n			\n				\n			\n				\n				意外と楽しい♪\n				\n			\n				\n			\n				\n				営農指導員から苗を受け取ります\n				\n			\n				\n			\n				\n				慣れてくるとスピードアップ\n				\n			\n				\n			\n				\n				手植えの方法を説明する西中営農指導員\n				\n			\n				\n			\n				\n				田植えの体験学習の準備中\n				\n			\n				\n			\n				\n				田植えをしたことがない児童がほとんど\n				\n			\n				\n			\n				\n				無事田植え完了\n				\n			\n		\n\n
URL:https://www.ja-kurobe.jp/tribe_events/gakusyuden%ef%bc%88muratubaki%ef%bc%89/
END:VEVENT
END:VCALENDAR