BEGIN:VCALENDAR
VERSION:2.0
PRODID:-//JAくろべ - ECPv4.6.13//NONSGML v1.0//EN
CALSCALE:GREGORIAN
METHOD:PUBLISH
X-WR-CALNAME:JAくろべ
X-ORIGINAL-URL:https://www.ja-kurobe.jp
X-WR-CALDESC:Events for JAくろべ
BEGIN:VEVENT
DTSTART;VALUE=DATE:20170815
DTEND;VALUE=DATE:20170816
DTSTAMP:20260421T112307
CREATED:20170711T025720Z
LAST-MODIFIED:20170711T025720Z
UID:5548-1502755200-1502841599@www.ja-kurobe.jp
SUMMARY:ファミリー活動
DESCRIPTION:ファミリー活動は15日～22日です。 \n
URL:https://www.ja-kurobe.jp/tribe_events/family201708-2/
END:VEVENT
END:VCALENDAR