BEGIN:VCALENDAR
VERSION:2.0
PRODID:-//JAくろべ - ECPv4.6.13//NONSGML v1.0//EN
CALSCALE:GREGORIAN
METHOD:PUBLISH
X-WR-CALNAME:JAくろべ
X-ORIGINAL-URL:https://www.ja-kurobe.jp
X-WR-CALDESC:Events for JAくろべ
BEGIN:VEVENT
DTSTART;VALUE=DATE:20170116
DTEND;VALUE=DATE:20170124
DTSTAMP:20260421T145642
CREATED:20170220T062319Z
LAST-MODIFIED:20170220T062319Z
UID:4770-1484524800-1485215999@www.ja-kurobe.jp
SUMMARY:ファミリー活動
DESCRIPTION:
URL:https://www.ja-kurobe.jp/tribe_events/family/
END:VEVENT
END:VCALENDAR