BEGIN:VCALENDAR
VERSION:2.0
PRODID:-//JAくろべ - ECPv4.6.13//NONSGML v1.0//EN
CALSCALE:GREGORIAN
METHOD:PUBLISH
X-WR-CALNAME:JAくろべ
X-ORIGINAL-URL:https://www.ja-kurobe.jp
X-WR-CALDESC:Events for JAくろべ
BEGIN:VEVENT
DTSTART;VALUE=DATE:20180515
DTEND;VALUE=DATE:20180516
DTSTAMP:20260421T114348
CREATED:20180417T055408Z
LAST-MODIFIED:20180417T055408Z
UID:7132-1526342400-1526428799@www.ja-kurobe.jp
SUMMARY:ファミリー活動
DESCRIPTION:ファミリー活動は22日までです。 \n
URL:https://www.ja-kurobe.jp/tribe_events/family-activities-3/
END:VEVENT
END:VCALENDAR