BEGIN:VCALENDAR
VERSION:2.0
PRODID:-//JAくろべ - ECPv4.6.13//NONSGML v1.0//EN
CALSCALE:GREGORIAN
METHOD:PUBLISH
X-WR-CALNAME:JAくろべ
X-ORIGINAL-URL:https://www.ja-kurobe.jp
X-WR-CALDESC:Events for JAくろべ
BEGIN:VEVENT
DTSTART;VALUE=DATE:20180416
DTEND;VALUE=DATE:20180417
DTSTAMP:20260421T163146
CREATED:20180309T023156Z
LAST-MODIFIED:20180309T023156Z
UID:6884-1523836800-1523923199@www.ja-kurobe.jp
SUMMARY:ファミリー活動
DESCRIPTION:ファミリー活動は16日から23日までです。 \n
URL:https://www.ja-kurobe.jp/tribe_events/family-activities-2/
END:VEVENT
END:VCALENDAR