BEGIN:VCALENDAR
VERSION:2.0
PRODID:-//JAくろべ - ECPv4.6.13//NONSGML v1.0//EN
CALSCALE:GREGORIAN
METHOD:PUBLISH
X-WR-CALNAME:JAくろべ
X-ORIGINAL-URL:https://www.ja-kurobe.jp
X-WR-CALDESC:Events for JAくろべ
BEGIN:VEVENT
DTSTART;VALUE=DATE:20180115
DTEND;VALUE=DATE:20180116
DTSTAMP:20260421T165959
CREATED:20180115T070000Z
LAST-MODIFIED:20180115T070100Z
UID:6535-1515974400-1516060799@www.ja-kurobe.jp
SUMMARY:ファミリー活動
DESCRIPTION:ファミリー活動は15日から22日までです。 \n
URL:https://www.ja-kurobe.jp/tribe_events/family-6/
END:VEVENT
END:VCALENDAR