BEGIN:VCALENDAR
VERSION:2.0
PRODID:-//JAくろべ - ECPv4.6.13//NONSGML v1.0//EN
CALSCALE:GREGORIAN
METHOD:PUBLISH
X-WR-CALNAME:JAくろべ
X-ORIGINAL-URL:https://www.ja-kurobe.jp
X-WR-CALDESC:Events for JAくろべ
BEGIN:VEVENT
DTSTART;VALUE=DATE:20170718
DTEND;VALUE=DATE:20170719
DTSTAMP:20260423T085725
CREATED:20170608T021319Z
LAST-MODIFIED:20170817T083131Z
UID:5294-1500336000-1500422399@www.ja-kurobe.jp
SUMMARY:ファミリー活動
DESCRIPTION:ファミリー活動は18日～25日です。 \n
URL:https://www.ja-kurobe.jp/tribe_events/family-4/
END:VEVENT
END:VCALENDAR