BEGIN:VCALENDAR
VERSION:2.0
PRODID:-//JAくろべ - ECPv4.6.13//NONSGML v1.0//EN
CALSCALE:GREGORIAN
METHOD:PUBLISH
X-WR-CALNAME:JAくろべ
X-ORIGINAL-URL:https://www.ja-kurobe.jp
X-WR-CALDESC:Events for JAくろべ
BEGIN:VEVENT
DTSTART;TZID=Asia/Tokyo:20160624T080000
DTEND;TZID=Asia/Tokyo:20160625T170000
DTSTAMP:20260422T063331
CREATED:20160726T074301Z
LAST-MODIFIED:20160726T082156Z
UID:3634-1466755200-1466874000@www.ja-kurobe.jp
SUMMARY:総合フェア
DESCRIPTION:\n		\n			#gallery-1 {\n				margin: auto;\n			}\n			#gallery-1 .gallery-item {\n				float: left;\n				margin-top: 10px;\n				text-align: center;\n				width: 33%;\n			}\n			#gallery-1 img {\n				border: 2px solid #cfcfcf;\n			}\n			#gallery-1 .gallery-caption {\n				margin-left: 0;\n			}\n			/* see gallery_shortcode() in wp-includes/media.php */\n		\n		\n			\n				\n			\n				\n				農業女子に♪かわいい作業着です！\n				\n			\n				\n			\n				\n				農機具もたくさん展示されました\n				\n			\n				\n			\n				\n				農機具の試乗も出来ました！\n				\n			\n				\n			\n				\n				メーカーからも詳しく話を聞けます\n				\n			\n				\n			\n				\n				除草剤も大特価でした\n				\n			\n		\n\n
URL:https://www.ja-kurobe.jp/tribe_events/fair/
END:VEVENT
END:VCALENDAR