BEGIN:VCALENDAR
VERSION:2.0
PRODID:-//JAくろべ - ECPv4.6.13//NONSGML v1.0//EN
CALSCALE:GREGORIAN
METHOD:PUBLISH
X-WR-CALNAME:JAくろべ
X-ORIGINAL-URL:https://www.ja-kurobe.jp
X-WR-CALDESC:Events for JAくろべ
BEGIN:VEVENT
DTSTART;VALUE=DATE:20170110
DTEND;VALUE=DATE:20170111
DTSTAMP:20260421T131144
CREATED:20170220T062957Z
LAST-MODIFIED:20170220T063105Z
UID:4776-1484006400-1484092799@www.ja-kurobe.jp
SUMMARY:日帰り人間ドック(全地区)
DESCRIPTION:
URL:https://www.ja-kurobe.jp/tribe_events/doc/
END:VEVENT
END:VCALENDAR