BEGIN:VCALENDAR
VERSION:2.0
PRODID:-//JAくろべ - ECPv4.6.13//NONSGML v1.0//EN
CALSCALE:GREGORIAN
METHOD:PUBLISH
X-WR-CALNAME:JAくろべ
X-ORIGINAL-URL:https://www.ja-kurobe.jp
X-WR-CALDESC:Events for JAくろべ
BEGIN:VEVENT
DTSTART;TZID=Asia/Tokyo:20250207T080000
DTEND;TZID=Asia/Tokyo:20250207T170000
DTSTAMP:20260421T163209
CREATED:20250129T021932Z
LAST-MODIFIED:20250129T021932Z
UID:13246-1738915200-1738947600@www.ja-kurobe.jp
SUMMARY:日帰り人間ドック （全地区）
DESCRIPTION:
URL:https://www.ja-kurobe.jp/tribe_events/complete-medical-checkup%ef%bc%92/
END:VEVENT
END:VCALENDAR