BEGIN:VCALENDAR
VERSION:2.0
PRODID:-//JAくろべ - ECPv4.6.13//NONSGML v1.0//EN
CALSCALE:GREGORIAN
METHOD:PUBLISH
X-WR-CALNAME:JAくろべ
X-ORIGINAL-URL:https://www.ja-kurobe.jp
X-WR-CALDESC:Events for JAくろべ
BEGIN:VEVENT
DTSTART;VALUE=DATE:20171120
DTEND;VALUE=DATE:20171121
DTSTAMP:20260421T094514
CREATED:20180115T063916Z
LAST-MODIFIED:20180115T063916Z
UID:6456-1511136000-1511222399@www.ja-kurobe.jp
SUMMARY:加工用キャベツ収穫
DESCRIPTION:\n		\n			#gallery-1 {\n				margin: auto;\n			}\n			#gallery-1 .gallery-item {\n				float: left;\n				margin-top: 10px;\n				text-align: center;\n				width: 33%;\n			}\n			#gallery-1 img {\n				border: 2px solid #cfcfcf;\n			}\n			#gallery-1 .gallery-caption {\n				margin-left: 0;\n			}\n			/* see gallery_shortcode() in wp-includes/media.php */\n		\n		\n			\n				\n			\n				\n				みずみずしい大きなキャベツ\n				\n			\n				\n			\n				\n				手作業で丁寧に出荷\n				\n			\n				\n			\n				\n				農事組合法人飯沢営農組合の皆さん\n				\n		\n\n
URL:https://www.ja-kurobe.jp/tribe_events/cabbage/
END:VEVENT
END:VCALENDAR