BEGIN:VCALENDAR
VERSION:2.0
PRODID:-//JAくろべ - ECPv4.6.13//NONSGML v1.0//EN
CALSCALE:GREGORIAN
METHOD:PUBLISH
X-WR-CALNAME:JAくろべ
X-ORIGINAL-URL:https://www.ja-kurobe.jp
X-WR-CALDESC:Events for JAくろべ
BEGIN:VEVENT
DTSTART;VALUE=DATE:20180126
DTEND;VALUE=DATE:20180127
DTSTAMP:20260421T114517
CREATED:20180115T070403Z
LAST-MODIFIED:20180115T070555Z
UID:6539-1516924800-1517011199@www.ja-kurobe.jp
SUMMARY:定例理事会
DESCRIPTION:
URL:https://www.ja-kurobe.jp/tribe_events/board-of-directors/
END:VEVENT
END:VCALENDAR