BEGIN:VCALENDAR
VERSION:2.0
PRODID:-//JAくろべ - ECPv4.6.13//NONSGML v1.0//EN
CALSCALE:GREGORIAN
METHOD:PUBLISH
X-WR-CALNAME:JAくろべ
X-ORIGINAL-URL:https://www.ja-kurobe.jp
X-WR-CALDESC:Events for JAくろべ
BEGIN:VEVENT
DTSTART;VALUE=DATE:20180125
DTEND;VALUE=DATE:20180126
DTSTAMP:20260421T142218
CREATED:20180216T012739Z
LAST-MODIFIED:20180216T014103Z
UID:6672-1516838400-1516924799@www.ja-kurobe.jp
SUMMARY:りんごの剪定講習会
DESCRIPTION:\n		\n			#gallery-1 {\n				margin: auto;\n			}\n			#gallery-1 .gallery-item {\n				float: left;\n				margin-top: 10px;\n				text-align: center;\n				width: 33%;\n			}\n			#gallery-1 img {\n				border: 2px solid #cfcfcf;\n			}\n			#gallery-1 .gallery-caption {\n				margin-left: 0;\n			}\n			/* see gallery_shortcode() in wp-includes/media.php */\n		\n		\n			\n				\n			\n				\n				富山県新川農林振興センターの舟橋志津子さん\n				\n			\n				\n			\n				\n				まずは全体を確認する\n				\n			\n				\n			\n				\n				徒長枝のせん除や結果枝の整理等説明を受ける\n				\n		\n\n
URL:https://www.ja-kurobe.jp/tribe_events/apple/
END:VEVENT
END:VCALENDAR