BEGIN:VCALENDAR
VERSION:2.0
PRODID:-//JAくろべ - ECPv4.6.13//NONSGML v1.0//EN
CALSCALE:GREGORIAN
METHOD:PUBLISH
X-WR-CALNAME:JAくろべ
X-ORIGINAL-URL:https://www.ja-kurobe.jp
X-WR-CALDESC:Events for JAくろべ
BEGIN:VEVENT
DTSTART;VALUE=DATE:20180621
DTEND;VALUE=DATE:20180622
DTSTAMP:20260420T124814
CREATED:20180714T055704Z
LAST-MODIFIED:20180714T055759Z
UID:7552-1529539200-1529625599@www.ja-kurobe.jp
SUMMARY:愛本姫社祭
DESCRIPTION:\n		\n			#gallery-1 {\n				margin: auto;\n			}\n			#gallery-1 .gallery-item {\n				float: left;\n				margin-top: 10px;\n				text-align: center;\n				width: 33%;\n			}\n			#gallery-1 img {\n				border: 2px solid #cfcfcf;\n			}\n			#gallery-1 .gallery-caption {\n				margin-left: 0;\n			}\n			/* see gallery_shortcode() in wp-includes/media.php */\n		\n		\n			\n				\n			\n				\n				宇奈月小学校児童による「愛本ちまき踊り」\n				\n			\n				\n			\n				\n				最後にまつりの一行が集合\n				\n			\n				\n			\n				\n				伝説を再現\n				\n			\n				\n			\n				\n				子どもたちを先頭に進む行列\n				\n			\n				\n			\n				\n				迫力のある大蛇\n				\n			\n				\n			\n				\n				若侍とお光\n				\n		\n\n
URL:https://www.ja-kurobe.jp/tribe_events/aimoto-himeshasai/
END:VEVENT
END:VCALENDAR