BEGIN:VCALENDAR
VERSION:2.0
PRODID:-//JAくろべ - ECPv4.6.13//NONSGML v1.0//EN
CALSCALE:GREGORIAN
METHOD:PUBLISH
X-WR-CALNAME:JAくろべ
X-ORIGINAL-URL:https://www.ja-kurobe.jp
X-WR-CALDESC:Events for JAくろべ
BEGIN:VEVENT
DTSTART;TZID=Asia/Tokyo:20250206T080000
DTEND;TZID=Asia/Tokyo:20250206T170000
DTSTAMP:20260421T112154
CREATED:20250403T065345Z
LAST-MODIFIED:20250403T065345Z
UID:13356-1738828800-1738861200@www.ja-kurobe.jp
SUMMARY:黒部市営農組合協議会通常総会・研修会
DESCRIPTION: \n
URL:https://www.ja-kurobe.jp/tribe_events/20250206/
ATTACH;FMTTYPE=image/jpeg:https://www.ja-kurobe.jp/wp/wp-content/uploads/2025/04/事業計画や収支予算などを確認.jpeg
END:VEVENT
END:VCALENDAR