BEGIN:VCALENDAR
VERSION:2.0
PRODID:-//JAくろべ - ECPv4.6.13//NONSGML v1.0//EN
CALSCALE:GREGORIAN
METHOD:PUBLISH
X-WR-CALNAME:JAくろべ
X-ORIGINAL-URL:https://www.ja-kurobe.jp
X-WR-CALDESC:Events for JAくろべ
BEGIN:VEVENT
DTSTART;TZID=Asia/Tokyo:20250120T080000
DTEND;TZID=Asia/Tokyo:20250120T170000
DTSTAMP:20260421T094623
CREATED:20250226T071709Z
LAST-MODIFIED:20250226T071709Z
UID:13316-1737360000-1737392400@www.ja-kurobe.jp
SUMMARY:りんご剪定講習会
DESCRIPTION: \n
URL:https://www.ja-kurobe.jp/tribe_events/20250120/
ATTACH;FMTTYPE=image/jpeg:https://www.ja-kurobe.jp/wp/wp-content/uploads/2025/02/剪定の実演指導.jpg
END:VEVENT
END:VCALENDAR