BEGIN:VCALENDAR
VERSION:2.0
PRODID:-//JAくろべ - ECPv4.6.13//NONSGML v1.0//EN
CALSCALE:GREGORIAN
METHOD:PUBLISH
X-WR-CALNAME:JAくろべ
X-ORIGINAL-URL:https://www.ja-kurobe.jp
X-WR-CALDESC:Events for JAくろべ
BEGIN:VEVENT
DTSTART;TZID=Asia/Tokyo:20250217T080000
DTEND;TZID=Asia/Tokyo:20250225T170000
DTSTAMP:20260424T160157
CREATED:20250129T022150Z
LAST-MODIFIED:20250129T022526Z
UID:13250-1739779200-1740502800@www.ja-kurobe.jp
SUMMARY:ファミリー活動
DESCRIPTION:
URL:https://www.ja-kurobe.jp/tribe_events/family-activities-19/
END:VEVENT
BEGIN:VEVENT
DTSTART;TZID=Asia/Tokyo:20250218T080000
DTEND;TZID=Asia/Tokyo:20250218T170000
DTSTAMP:20260424T160157
CREATED:20250129T022254Z
LAST-MODIFIED:20250129T022254Z
UID:13252-1739865600-1739898000@www.ja-kurobe.jp
SUMMARY:日帰り人間ドック （全地区）
DESCRIPTION:
URL:https://www.ja-kurobe.jp/tribe_events/complete-medical-checkup-3/
END:VEVENT
END:VCALENDAR