BEGIN:VCALENDAR
VERSION:2.0
PRODID:-//JAくろべ - ECPv4.6.13//NONSGML v1.0//EN
CALSCALE:GREGORIAN
METHOD:PUBLISH
X-WR-CALNAME:JAくろべ
X-ORIGINAL-URL:https://www.ja-kurobe.jp
X-WR-CALDESC:Events for JAくろべ
BEGIN:VEVENT
DTSTART;VALUE=DATE:20250216
DTEND;VALUE=DATE:20250217
DTSTAMP:20260424T130155
CREATED:20250403T070309Z
LAST-MODIFIED:20250403T071354Z
UID:13359-1739664000-1739750399@www.ja-kurobe.jp
SUMMARY:「名水の里 産地 黒部」生産者大会
DESCRIPTION: \n
URL:https://www.ja-kurobe.jp/tribe_events/20250216/
ATTACH;FMTTYPE=image/jpeg:https://www.ja-kurobe.jp/wp/wp-content/uploads/2025/04/市内農業者や農業関係者などが集まる.jpg
END:VEVENT
END:VCALENDAR