BEGIN:VCALENDAR
VERSION:2.0
PRODID:-//JAくろべ - ECPv4.6.13//NONSGML v1.0//EN
CALSCALE:GREGORIAN
METHOD:PUBLISH
X-WR-CALNAME:JAくろべ
X-ORIGINAL-URL:https://www.ja-kurobe.jp
X-WR-CALDESC:Events for JAくろべ
BEGIN:VEVENT
DTSTART;TZID=Asia/Tokyo:20250124T080000
DTEND;TZID=Asia/Tokyo:20250124T170000
DTSTAMP:20260421T141636
CREATED:20250129T021713Z
LAST-MODIFIED:20250129T021713Z
UID:13242-1737705600-1737738000@www.ja-kurobe.jp
SUMMARY:日帰り人間ドック
DESCRIPTION:
URL:https://www.ja-kurobe.jp/tribe_events/complete-medical-checkup-2/
END:VEVENT
END:VCALENDAR