BEGIN:VCALENDAR
VERSION:2.0
PRODID:-//JAくろべ - ECPv4.6.13//NONSGML v1.0//EN
CALSCALE:GREGORIAN
METHOD:PUBLISH
X-WR-CALNAME:JAくろべ
X-ORIGINAL-URL:https://www.ja-kurobe.jp
X-WR-CALDESC:Events for JAくろべ
BEGIN:VEVENT
DTSTART;VALUE=DATE:20241218
DTEND;VALUE=DATE:20241219
DTSTAMP:20260421T144242
CREATED:20241121T072151Z
LAST-MODIFIED:20241121T072151Z
UID:13123-1734480000-1734566399@www.ja-kurobe.jp
SUMMARY:日帰り人間ドック（若栗地区）
DESCRIPTION:
URL:https://www.ja-kurobe.jp/tribe_events/20241218/
END:VEVENT
END:VCALENDAR