BEGIN:VCALENDAR
VERSION:2.0
PRODID:-//JAくろべ - ECPv4.6.13//NONSGML v1.0//EN
CALSCALE:GREGORIAN
METHOD:PUBLISH
X-WR-CALNAME:JAくろべ
X-ORIGINAL-URL:https://www.ja-kurobe.jp
X-WR-CALDESC:Events for JAくろべ
BEGIN:VEVENT
DTSTART;VALUE=DATE:20170704
DTEND;VALUE=DATE:20170705
DTSTAMP:20260421T113004
CREATED:20170508T072408Z
LAST-MODIFIED:20171011T073618Z
UID:5183-1499126400-1499212799@www.ja-kurobe.jp
SUMMARY:第2回黒部市農協年金友の会パークゴルフ大会
DESCRIPTION:1.主催　黒部市農業協同組合年金友の会連絡協議会\n2.開催日平成29年7月4日(火)雨天決行\n受付：午前8時～8時30分\n開会式：午前8時45分\nスタート：午前9時\n表彰式：正午ごろ　表彰式後、解散\n3.開催場所　　グリーンパークおおしま\n4.参加資格　　 JAくろべ年金友の会会員および受給予定者\n5.参加予定数　 100名になり次第、締切とさせていただきます。\n6.参　加　費　500円(当日会場で徴収致します)　プレー代は自己負担とします。\n7.競技方法\n・男女別個人戦(27ホール・ストロークプレー)\n・同スコアの場合、年齢が高い方を上位とします。ただし、優勝のみ同スコアの場合はサドンデスプレイオフで決めます。\n8.参加申込み　 JAくろべ各支店の参加申込書をご記入の上、申込みください。\n締切6月23日(金) \n\n		\n			#gallery-1 {\n				margin: auto;\n			}\n			#gallery-1 .gallery-item {\n				float: left;\n				margin-top: 10px;\n				text-align: center;\n				width: 33%;\n			}\n			#gallery-1 img {\n				border: 2px solid #cfcfcf;\n			}\n			#gallery-1 .gallery-caption {\n				margin-left: 0;\n			}\n			/* see gallery_shortcode() in wp-includes/media.php */\n		\n		\n			\n				\n			\n				\n				開会式の様子\n				\n			\n				\n			\n				\n				プレーを見守ります\n				\n			\n				\n			\n				\n				女性の部で優勝された浜田さん\n				\n			\n				\n			\n				\n				優勝された宮崎さんの気迫あふれるプレー\n				\n			\n				\n			\n				\n				女性の部の優勝決定戦\n				\n			\n				\n			\n				\n				優勝した宮崎さん\n				\n			\n				\n			\n				\n				上位入賞者\n				\n			\n		\n\n
URL:https://www.ja-kurobe.jp/tribe_events/201707park-golf/
END:VEVENT
END:VCALENDAR