BEGIN:VCALENDAR
VERSION:2.0
PRODID:-//JAくろべ - ECPv4.6.13//NONSGML v1.0//EN
CALSCALE:GREGORIAN
METHOD:PUBLISH
X-WR-CALNAME:JAくろべ
X-ORIGINAL-URL:https://www.ja-kurobe.jp
X-WR-CALDESC:Events for JAくろべ
BEGIN:VEVENT
DTSTART;VALUE=DATE:20170526
DTEND;VALUE=DATE:20170527
DTSTAMP:20260421T151504
CREATED:20170508T071250Z
LAST-MODIFIED:20170508T071250Z
UID:5180-1495756800-1495843199@www.ja-kurobe.jp
SUMMARY:定例理事会
DESCRIPTION:
URL:https://www.ja-kurobe.jp/tribe_events/201705rijikai/
END:VEVENT
END:VCALENDAR