BEGIN:VCALENDAR
VERSION:2.0
PRODID:-//JAくろべ - ECPv4.6.13//NONSGML v1.0//EN
CALSCALE:GREGORIAN
METHOD:PUBLISH
X-WR-CALNAME:JAくろべ
X-ORIGINAL-URL:https://www.ja-kurobe.jp
X-WR-CALDESC:Events for JAくろべ
BEGIN:VEVENT
DTSTART;TZID=Asia/Tokyo:20170213T140000
DTEND;TZID=Asia/Tokyo:20170213T160000
DTSTAMP:20260421T131342
CREATED:20170213T045219Z
LAST-MODIFIED:20170220T065222Z
UID:4680-1486994400-1487001600@www.ja-kurobe.jp
SUMMARY:スノーアート企画
DESCRIPTION:\n		\n			#gallery-1 {\n				margin: auto;\n			}\n			#gallery-1 .gallery-item {\n				float: left;\n				margin-top: 10px;\n				text-align: center;\n				width: 33%;\n			}\n			#gallery-1 img {\n				border: 2px solid #cfcfcf;\n			}\n			#gallery-1 .gallery-caption {\n				margin-left: 0;\n			}\n			/* see gallery_shortcode() in wp-includes/media.php */\n		\n		\n			\n				\n			\n				\n				雪像作りがんばるぞ!\n				\n			\n				\n			\n				\n				みんなで一生懸命作業しました\n				\n			\n				\n			\n				\n				雪で黒部ダムを作るよ\n				\n			\n				\n			\n				\n				みんなで積み上げた雪の壁に色つけ\n				\n			\n				\n			\n				\n				氷像に乗って記念撮影\n				\n			\n				\n			\n				\n				ちび雪だるま完成♪\n				\n		\n\n
URL:https://www.ja-kurobe.jp/tribe_events/20170213/
END:VEVENT
END:VCALENDAR