BEGIN:VCALENDAR
VERSION:2.0
PRODID:-//JAくろべ - ECPv4.6.13//NONSGML v1.0//EN
CALSCALE:GREGORIAN
METHOD:PUBLISH
X-WR-CALNAME:JAくろべ
X-ORIGINAL-URL:https://www.ja-kurobe.jp
X-WR-CALDESC:Events for JAくろべ
BEGIN:VEVENT
DTSTART;TZID=Asia/Tokyo:20170111T090000
DTEND;TZID=Asia/Tokyo:20170111T100000
DTSTAMP:20260421T131438
CREATED:20170216T044313Z
LAST-MODIFIED:20170216T044313Z
UID:4725-1484125200-1484128800@www.ja-kurobe.jp
SUMMARY:みのり受託組合
DESCRIPTION:\n		\n			#gallery-1 {\n				margin: auto;\n			}\n			#gallery-1 .gallery-item {\n				float: left;\n				margin-top: 10px;\n				text-align: center;\n				width: 33%;\n			}\n			#gallery-1 img {\n				border: 2px solid #cfcfcf;\n			}\n			#gallery-1 .gallery-caption {\n				margin-left: 0;\n			}\n			/* see gallery_shortcode() in wp-includes/media.php */\n		\n		\n			\n				\n			\n				\n				下立で美味しいお米を作っています\n				\n			\n		\n\n
URL:https://www.ja-kurobe.jp/tribe_events/20170111/
END:VEVENT
END:VCALENDAR