BEGIN:VCALENDAR
VERSION:2.0
PRODID:-//JAくろべ - ECPv4.6.13//NONSGML v1.0//EN
CALSCALE:GREGORIAN
METHOD:PUBLISH
X-WR-CALNAME:JAくろべ
X-ORIGINAL-URL:https://www.ja-kurobe.jp
X-WR-CALDESC:Events for JAくろべ
BEGIN:VEVENT
DTSTART;TZID=Asia/Tokyo:20161228T180000
DTEND;TZID=Asia/Tokyo:20161228T200000
DTSTAMP:20260421T163827
CREATED:20170216T044358Z
LAST-MODIFIED:20170216T044358Z
UID:4740-1482948000-1482955200@www.ja-kurobe.jp
SUMMARY:森山選手来訪
DESCRIPTION:\n		\n			#gallery-1 {\n				margin: auto;\n			}\n			#gallery-1 .gallery-item {\n				float: left;\n				margin-top: 10px;\n				text-align: center;\n				width: 33%;\n			}\n			#gallery-1 img {\n				border: 2px solid #cfcfcf;\n			}\n			#gallery-1 .gallery-caption {\n				margin-left: 0;\n			}\n			/* see gallery_shortcode() in wp-includes/media.php */\n		\n		\n			\n				\n			\n				\n				プロ野球選手の登場にみんな緊張\n				\n			\n				\n			\n				\n				子供たちからの質問にも気さくに答える森山選手\n				\n			\n				\n			\n				\n				花束と色紙をプレゼント\n				\n			\n				\n			\n				\n				荻生ジャガーズのみんなも笑顔に\n				\n			\n				\n			\n				\n				みんなで記念撮影\n				\n			\n		\n\n
URL:https://www.ja-kurobe.jp/tribe_events/20161228/
END:VEVENT
END:VCALENDAR