BEGIN:VCALENDAR
VERSION:2.0
PRODID:-//JAくろべ - ECPv4.6.13//NONSGML v1.0//EN
CALSCALE:GREGORIAN
METHOD:PUBLISH
X-WR-CALNAME:JAくろべ
X-ORIGINAL-URL:https://www.ja-kurobe.jp
X-WR-CALDESC:Events for JAくろべ
BEGIN:VEVENT
DTSTART;VALUE=DATE:20161223
DTEND;VALUE=DATE:20161224
DTSTAMP:20260423T104434
CREATED:20170107T010929Z
LAST-MODIFIED:20170111T020448Z
UID:4430-1482451200-1482537599@www.ja-kurobe.jp
SUMMARY:黄綬褒章祝賀会
DESCRIPTION:\n		\n			#gallery-1 {\n				margin: auto;\n			}\n			#gallery-1 .gallery-item {\n				float: left;\n				margin-top: 10px;\n				text-align: center;\n				width: 33%;\n			}\n			#gallery-1 img {\n				border: 2px solid #cfcfcf;\n			}\n			#gallery-1 .gallery-caption {\n				margin-left: 0;\n			}\n			/* see gallery_shortcode() in wp-includes/media.php */\n		\n		\n			\n				\n			\n				\n				受賞された長谷川ご夫妻\n				\n			\n				\n			\n				\n				お孫さんたちと記念写真\n				\n			\n				\n			\n				\n				額が贈呈されました\n				\n			\n				\n			\n				\n				祝辞を述べられる堀内市長\n				\n			\n				\n			\n				\n				黒部市の営農関係者が集いました\n				\n			\n		\n\n
URL:https://www.ja-kurobe.jp/tribe_events/20161223hasegawa/
END:VEVENT
END:VCALENDAR