BEGIN:VCALENDAR
VERSION:2.0
PRODID:-//JAくろべ - ECPv4.6.13//NONSGML v1.0//EN
CALSCALE:GREGORIAN
METHOD:PUBLISH
X-WR-CALNAME:JAくろべ
X-ORIGINAL-URL:https://www.ja-kurobe.jp
X-WR-CALDESC:Events for JAくろべ
BEGIN:VEVENT
DTSTART;VALUE=DATE:20161220
DTEND;VALUE=DATE:20161221
DTSTAMP:20260421T081735
CREATED:20170107T011029Z
LAST-MODIFIED:20170107T070141Z
UID:4425-1482192000-1482278399@www.ja-kurobe.jp
SUMMARY:寄せ植え
DESCRIPTION:\n		\n			#gallery-1 {\n				margin: auto;\n			}\n			#gallery-1 .gallery-item {\n				float: left;\n				margin-top: 10px;\n				text-align: center;\n				width: 33%;\n			}\n			#gallery-1 img {\n				border: 2px solid #cfcfcf;\n			}\n			#gallery-1 .gallery-caption {\n				margin-left: 0;\n			}\n			/* see gallery_shortcode() in wp-includes/media.php */\n		\n		\n			\n				\n			\n				\n				花が咲くのが楽しみです\n				\n			\n				\n			\n				\n				完成した作品\n				\n			\n				\n			\n				\n				真剣に作業に取り組んでいます\n				\n			\n				\n			\n				\n				良い作品に仕上がりますように！\n				\n			\n		\n\n
URL:https://www.ja-kurobe.jp/tribe_events/20161220yoseue/
END:VEVENT
END:VCALENDAR